BEGIN:VCALENDAR
VERSION:2.0
PRODID:-//kuschelpartys.de - ECPv6.15.20//NONSGML v1.0//EN
CALSCALE:GREGORIAN
METHOD:PUBLISH
X-WR-CALNAME:kuschelpartys.de
X-ORIGINAL-URL:https://kuschelpartys.de
X-WR-CALDESC:Veranstaltungen für kuschelpartys.de
REFRESH-INTERVAL;VALUE=DURATION:PT1H
X-Robots-Tag:noindex
X-PUBLISHED-TTL:PT1H
BEGIN:VTIMEZONE
TZID:Europe/Berlin
BEGIN:DAYLIGHT
TZOFFSETFROM:+0100
TZOFFSETTO:+0200
TZNAME:CEST
DTSTART:20250330T010000
END:DAYLIGHT
BEGIN:STANDARD
TZOFFSETFROM:+0200
TZOFFSETTO:+0100
TZNAME:CET
DTSTART:20251026T010000
END:STANDARD
BEGIN:DAYLIGHT
TZOFFSETFROM:+0100
TZOFFSETTO:+0200
TZNAME:CEST
DTSTART:20260329T010000
END:DAYLIGHT
BEGIN:STANDARD
TZOFFSETFROM:+0200
TZOFFSETTO:+0100
TZNAME:CET
DTSTART:20261025T010000
END:STANDARD
BEGIN:DAYLIGHT
TZOFFSETFROM:+0100
TZOFFSETTO:+0200
TZNAME:CEST
DTSTART:20270328T010000
END:DAYLIGHT
BEGIN:STANDARD
TZOFFSETFROM:+0200
TZOFFSETTO:+0100
TZNAME:CET
DTSTART:20271031T010000
END:STANDARD
END:VTIMEZONE
BEGIN:VEVENT
DTSTART;VALUE=DATE:20260321
DTEND;VALUE=DATE:20260323
DTSTAMP:20260421T112003
CREATED:20251020T131147Z
LAST-MODIFIED:20251020T131147Z
UID:10747-1774051200-1774223999@kuschelpartys.de
SUMMARY:21.-22.März: Freiburger Kuschelwochenende
DESCRIPTION:Freiburger Kuschelwochenende März 2026\n\nEin Wochenende in Berührung\, Geborgenheit und Gemeinschaft \n\n\n\nDer Kuschelabend am Freitag dem 20. März kann zusätzlich gebucht werden. \n\n\n\n\n\n\nEine Zeit\, die Dich nähren und Dich näher zu Dir selbst bringen wird. \nBerührende Übungen und Rituale helfen Dir dabei\, Deine Grenzen erfahrbar zu machen und alte Muster aufzulösen. Du wirst in neue Erfahrungswelten eintauchen\, in denen Du Dir und den anderen neu begegnen kannst. \nHier kannst Du diesen besonderen Raum erleben\, der entsteht\, wenn man anderen Menschen wirklich bewusst begegnet. Die Gemeinschaft von allen wird Dich dabei nähren und unterstützen. \n\n\n\n\n\n  Außerdem erwarten Dich an diesem Wochenende \n\nBerührende und erfüllende Rituale\nSamstagabend Kuscheln Open End\nEine Gemeinschaft von Gleichgesinnten\, die Dich auf Deinem Weg der Öffnung und Heilung unterstützt\nAn diesem Wochenende schaffen wir miteinander einen geschützten und liebevollen Raum. Es gelten die Kuschelregeln.\n\n\n\n\n\n\n\nSelbstverpflegung: \nDu bist eingeladen\, etwas zum gemeinsamen Buffet beizusteuern. So haben wir immer etwas zum Essen für zwischendurch und wer möchte kann auch die Mittagspausen zusammen verbringen. Du kannst natürlich auch in ein Restaurant in der Nähe gehen. \n\n\n\n\n\n\nSa 11 – 22 Uhr\,  So 10 – 17 Uhr \nOrt: TAO – Zentrum\, Sundgauallee 39 in 79114 Freiburg im Breisgau \nTeilnahmebeitrag  125 €\n \nFrühbucher: 95 € \n\n 
URL:https://kuschelpartys.de/event/21-22-maerz-freiburger-kuschelwochenende-2/
LOCATION:TAO Zentrum Freiburg\, Sundgauallee 39\, 79114 Freiburg
CATEGORIES:Freiburg Workshops
ATTACH;FMTTYPE=image/png:https://kuschelpartys.de/wp-content/uploads/2025/04/workshop-2.png
ORGANIZER;CN="Markus - Ber%C3%BChrt Sein gemeinn%C3%BCtzige GmbH":MAILTO:markus@kuschelpartys.de
END:VEVENT
END:VCALENDAR